BEGIN:VCALENDAR
VERSION:2.0
PRODID:-//ChamberMaster//Event Calendar 2.0//EN
METHOD:PUBLISH
X-PUBLISHED-TTL:P3D
REFRESH-INTERVAL:P3D
CALSCALE:GREGORIAN
BEGIN:VEVENT
DTSTART;VALUE=DATE:20140628
DTEND;VALUE=DATE:20140629
TRANSP:TRANSPARENT
X-MICROSOFT-CDO-ALLDAYEVENT:TRUE
SUMMARY:A RiverStock
DESCRIPTION:What's cookin' for fun in June? RiverStock!\n\nbrought to you by the River Country Chamber of Commerce of Newaygo County\n\n \n\nThis years 4th Annual event includes the popular River Raft Race\, Newaygo Counties ONLY build your own raft race and Brews\, Bands & BBQ Festival with a new date this year   June 28. \n\n\n\nEvents on the Muskegon River and in Downtown Newaygo's Brooks Park will be the best ever with prizes for fastest racer\, People's Choice\, Best BBQ voted by our judges and People's Choice so mark your calendars for Saturday June 28!\n\n\n\nFor up to date information on the River Raft Race\, rules\, regulations & sign up like us on Facebook\, follow us on Twitter or visit our webpage at RiverRaftRace.  This years sponsors are Indian River Tobacco Traders\, Newaygo Family Dental Care and Wisner Canoe/Kayak Rental.\n\n\n\nStay tuned for the latest information on Brews\, Bands & BBQ festival sponsored by the Newaygo Brewing Company\; Newaygo Counties first brewery and taproom coming to downtown Newaygo this fall.  For more information like us on Facebook\, follow us on Twitter or visit our webpage at BrewsBandsBBQ.
X-ALT-DESC;FMTTYPE=text/html:<br />\n<span style="font-size:18px\;"><strong><span style="font-family:tahoma\,sans-serif\;">What&rsquo\;s cookin&rsquo\; for fun in June? RiverStock!</span></strong></span><br />\n<span style="font-size:14px\;"><span style="font-family:tahoma\,sans-serif\;">brought to you by the River Country Chamber of Commerce of Newaygo County</span></span><br />\n&nbsp\;<br />\n<span style="font-size:14px\;"><span style="font-family:tahoma\,sans-serif\;">This years 4<sup>th</sup> Annual event includes the popular River Raft Race\, Newaygo Counties <span style="color:#0000CD\;">ONLY</span> build your own raft race and Brews\, Bands &amp\; BBQ Festival with a new date this year &ndash\; <span style="color:#0000CD\;">June 28</span>. </span><br />\n<br />\n<span style="font-family:tahoma\,sans-serif\;">Events on the Muskegon River and in Downtown Newaygo&rsquo\;s Brooks Park will be the best ever with prizes for fastest racer\, People&rsquo\;s Choice\, Best BBQ voted by our judges and People&rsquo\;s Choice so mark your calendars for Saturday June 28!</span><br />\n<br />\n<span style="font-family:tahoma\,sans-serif\;">For up to date information on the <em><a href="http://business.rivercountrychamber.com/events/details/event-at-indian-river-tobacco-traders-llc-826"><span style="color:#0000CD\;">River Raft Race</span></a></em><span style="color:#0000CD\;">\, </span><em><a href="http://cloud.chambermaster.com/userfiles/UserFiles/chambers/1709/File/RiverStock_Documents/2014/rulesregulations4.29.14.pdf"><span style="color:#0000CD\;">rules\, regulations</span></a><a href="http://cloud.chambermaster.com/userfiles/UserFiles/chambers/1709/File/RiverStock_Documents/2014/RaftRaceRules2014.pdf"><span style="color:#0000CD\;"> &amp\;</span></a><span style="color:#0000CD\;"> </span><a href="http://business.rivercountrychamber.com/events/details/event-at-indian-river-tobacco-traders-llc-826"><span style="color:#0000CD\;">sign up</span></a></em> like us on <strong><a href="https://www.facebook.com/RiverCountryChamber?ref=hl"><span style="color:#0000CD\;">Facebook</span></a></strong>\, follow us on <strong><a href="https://twitter.com/RiverCountryCC"><span style="color:#0000CD\;">Twitter</span></a></strong> or visit our webpage at <strong><a href="http://business.rivercountrychamber.com/events/details/event-at-indian-river-tobacco-traders-llc-826"><span style="color:#0000CD\;">RiverRaftRace</span></a></strong>. &nbsp\;This years sponsors are Indian River Tobacco Traders\, Newaygo Family Dental Care and Wisner&nbsp\;Canoe/Kayak Rental.</span><br />\n<br />\n<span style="font-family:tahoma\,sans-serif\;">Stay tuned for the latest information on <em><a href="http://business.rivercountrychamber.com/events/details/event-at-river-city-trading-864"><span style="color:#0000CD\;">Brews\, Bands &amp\; BBQ</span></a></em> festival sponsored by the Newaygo Brewing Company\; Newaygo Counties first brewery and taproom coming to downtown Newaygo this fall. &nbsp\;For more information like us on <strong><a href="https://www.facebook.com/RiverCountryChamber?ref=hl"><span style="color:#0000CD\;">Facebook</span></a></strong>\, follow us on <a href="https://twitter.com/RiverCountryCC"><span style="color:#0000CD\;"><strong>Twitter</strong></span></a> or visit our webpage at <em><a href="http://business.rivercountrychamber.com/events/details/event-at-river-city-trading-864"><span style="color:#0000CD\;">BrewsBandsBBQ</span></a></em>.&nbsp\;&nbsp\;</span></span>
LOCATION:Newaygo\, MI 49337
UID:e.1709.803
SEQUENCE:3
DTSTAMP:20260420T130722Z
URL:http://business.rivercountrychamber.com/events/details/a-riverstock-06-28-2014-803
END:VEVENT

END:VCALENDAR
