BEGIN:VCALENDAR
VERSION:2.0
PRODID:-//ChamberMaster//Event Calendar 2.0//EN
METHOD:PUBLISH
X-PUBLISHED-TTL:P3D
REFRESH-INTERVAL:P3D
CALSCALE:GREGORIAN
BEGIN:VEVENT
DTSTART:20140628T150000Z
DTEND:20140628T170000Z
X-MICROSOFT-CDO-ALLDAYEVENT:FALSE
SUMMARY:River Stock Raft Race
DESCRIPTION:As part of the River Country Chamber of Commerce of Newaygo County's RiverStock Event\, this family friendly race is growing every year\, a great way to challenge your friends\, co-workers\, club or group members\, or maybe another rival business to race with your team down the river and WIN.\n\n\n\nAll rafts are homemade and self propelled. Race starts at Henning County Park and ends at New Bridge\, located on Bridge Street behind Sand Mold Systems. Grab a lawn chair and watch all the action from Riverside Park. Then take your chair to Brews Bands & BBQ\, a fun event immediately following the Raft Race being held at Brooks Park in downtown Newaygo\, where we will be announcing the winners at the awards ceremony while you enjoy a cold beverage of your choice\, music and food.\n\n\n\nRAFT RACE RULES CLICK HERE\n\n\n\nCash prizes for 1st\, 2nd & 3rd places\, also a special 'People Choice Award' for the raft with the best design. \n\n\n\nRegister your team before May 15th and get free Raft Race 2014 tee-shirts for everyone on the team\; After May 15th all tee-shirts will be $10.00\; Raft registration fee is $40.00 per raft.  \n\nSponsorship opportunities are available. This is a great way to promote your business.\n\n\n\nAlso volunteers are needed\, so please call Chamber office if you would like to help with any part of RiverStock. 231-652-3068
X-ALT-DESC;FMTTYPE=text/html:<p><span style="font-size: 14px\;"><span style="font-family: arial\;">As part of the River Country Chamber of Commerce of Newaygo County&#39\;s<strong><span style="color: rgb(139\, 69\, 19)\;"> </span></strong><strong><a href="http://business.rivercountrychamber.com/events/details/riverstock-brought-to-you-by-river-country-chamber-of-commerce-of-newaygo-county-803"><span style="color: rgb(139\, 69\, 19)\;">RiverStock Event</span></a><span style="color: rgb(139\, 69\, 19)\;">\,</span></strong> this family friendly race is growing every year\, a great way to challenge your friends\, co-workers\, club or group members\, or maybe another rival business to race with your team down the river and WIN.<br />\n<br />\nAll rafts are homemade and self propelled. Race starts at Henning County Park and ends at New Bridge\, located on Bridge Street behind Sand Mold Systems. Grab a lawn chair and watch all the action from Riverside Park. Then take your chair to <strong><a href="http://business.rivercountrychamber.com/events/details/riverstock-brought-to-you-by-river-country-chamber-of-commerce-of-newaygo-county-803"><span style="color: rgb(139\, 69\, 19)\;">Brews Bands &amp\; BBQ</span></a></strong>\, a fun event immediately following the Raft Race being held at Brooks Park in downtown Newaygo\, where we will be announcing the winners at the awards ceremony while you enjoy a cold beverage of your choice\, music and food.<br />\n<br />\n<a href="http://cloud.chambermaster.com/userfiles/UserFiles/chambers/1709/File/RiverStock_Documents/2014/rulesregulations4.29.14.pdf"><em><strong><span style="color: rgb(139\, 69\, 19)\;">RAFT&nbsp\;RACE RULES CLICK HERE</span></strong></em></a><br />\n<br />\n<strong>Cash prizes for 1st\, 2nd &amp\; 3rd places\, also a special &#39\;People Choice Award&#39\; for the raft with the best design.</strong>&nbsp\;<br />\n<br />\nRegister your team before May 15th and get free Raft Race 2014 tee-shirts for everyone on the team\; After May 15th all tee-shirts will be $10.00\;&nbsp\;Raft registration fee is $40.00 per raft. &nbsp\;</span></span></p>\n\n<p><span style="font-size: 14px\;"><span style="font-family: arial\;"><strong><em><a href="http://cloud.chambermaster.com/userfiles/UserFiles/chambers/1709/File/RiverStock_Documents/2014/SponsorshipFINAL.pdf">Sponsorship opportunities are available.</a></em></strong> This is a great way to promote your business.<br />\n<br />\nAlso volunteers are needed\, so please call Chamber office if you would like to help with any part of <strong><a href="http://business.rivercountrychamber.com/events/details/riverstock-brought-to-you-by-river-country-chamber-of-commerce-of-newaygo-county-803"><span style="color: rgb(139\, 69\, 19)\;">RiverStock</span></a></strong>. 231-652-3068</span></span><br />\n<br />\n&nbsp\;</p>\n
LOCATION:EH Henning County Park Newaygo Michigan
UID:e.1709.826
SEQUENCE:3
DTSTAMP:20260420T142652Z
URL:http://business.rivercountrychamber.com/events/details/river-stock-raft-race-06-28-2014-826
END:VEVENT

END:VCALENDAR
