BEGIN:VCALENDAR
VERSION:2.0
PRODID:-//ChamberMaster//Event Calendar 2.0//EN
METHOD:PUBLISH
X-PUBLISHED-TTL:P3D
REFRESH-INTERVAL:P3D
CALSCALE:GREGORIAN
BEGIN:VEVENT
DTSTART:20260604T183000Z
DTEND:20260604T193000Z
X-MICROSOFT-CDO-ALLDAYEVENT:FALSE
SUMMARY:June Adult Book Club
DESCRIPTION:Come to the June Book Club at Newaygo Library to discuss The Correspondent by Virginia Evans!\n\n\n\nDiscover connection\, secrets\, and the power of words. Told entirely through letters\, this beautifully crafted novel invites readers into an intimate exchange of thoughts\, emotions\, and hidden truths. As the correspondence unfolds\, so do the lives behind the pages  revealing relationships\, past decisions\, and unexpected connections that keep you turning (or opening!) each new letter.\n\n\n\nPerfect for readers who love character-driven stories and a unique storytelling style\, The Correspondent offers a heartfelt reminder of how powerful written words can be.\n\n\n\nRSVP online @ newaygolibrary.org or at 231-652-6723.\n\n\n\nWould you like to be notified by text of Newaygo Library events?\n\nSign up for our events reminder program!\n\n"Remind" will send out a text and email about events going on at Newaygo Library.\n\nTo sign up\, go to: remind.com/join/1915nadl\n\nor Text - @1915nadl to 81010
X-ALT-DESC;FMTTYPE=text/html:Come to the June Book Club at Newaygo Library to discuss The Correspondent by Virginia Evans!<br />\n<br />\nDiscover connection\, secrets\, and the power of words. Told entirely through letters\, this beautifully crafted novel invites readers into an intimate exchange of thoughts\, emotions\, and hidden truths. As the correspondence unfolds\, so do the lives behind the pages&mdash\; revealing relationships\, past decisions\, and unexpected connections that keep you turning (or opening!) each new letter.<br />\n<br />\nPerfect for readers who love character-driven stories and a unique storytelling style\, The Correspondent offers a heartfelt reminder of how powerful written words can be.<br />\n<br />\nRSVP online @&nbsp\;newaygolibrary.org&nbsp\;or at 231-652-6723.<br />\n<br />\nWould you like to be notified by text of Newaygo Library events?<br />\nSign up for our events reminder program!<br />\n&quot\;Remind&quot\; will send out a text and email about events going on at Newaygo Library.<br />\nTo sign up\, go to:&nbsp\;remind.com/join/1915nadl<br />\nor Text - @1915nadl to 81010
LOCATION:Newaygo Area District Library 44 N. State Rd. Newaygo\, MI 49337
UID:e.1709.43167
SEQUENCE:3
DTSTAMP:20260421T005036Z
URL:http://business.rivercountrychamber.com/events/details/june-adult-book-club-06-04-2026-43167
END:VEVENT

END:VCALENDAR
