BEGIN:VCALENDAR
VERSION:2.0
PRODID:-//ChamberMaster//Event Calendar 2.0//EN
METHOD:PUBLISH
X-PUBLISHED-TTL:P3D
REFRESH-INTERVAL:P3D
CALSCALE:GREGORIAN
BEGIN:VEVENT
DTSTART:20140215T140000Z
DTEND:20140215T203000Z
X-MICROSOFT-CDO-ALLDAYEVENT:FALSE
SUMMARY:Ice Golf is Dam Good Fun
DESCRIPTION:Ice Golf?  Yes it is possible.\n\n\n\nIt is a 9 hole course that you tee off from the ground onto the ice and your off.  You will play the course 2 times around for a total of 18 holes. \n\n\n\nFormat is a 4 Person Scramble\n\n\n\nWhat do you need?  A team obviously\, 1 sled\, 2 clubs per person (not your best) and tennis balls\, white is not recommenced from experience.  \n\n\n\nPut a team together\, load all of your gear onto the sled and have fun.   You will not regret it.
X-ALT-DESC;FMTTYPE=text/html:Ice Golf? &nbsp\;Yes it is possible.<br />\n<br />\nIt is a 9 hole course that you tee off from the ground onto the ice and your off. &nbsp\;You will play the course 2 times around for a total of 18 holes.&nbsp\;<br />\n<br />\nFormat is a 4 Person Scramble<br />\n<br />\nWhat do you need? &nbsp\;A team obviously\, 1 sled\, 2 clubs per person (not your best) and tennis balls\, white is not recommenced&nbsp\;from experience. &nbsp\;<br />\n<br />\nPut a team together\, load all of your gear onto the sled and have fun. &nbsp\; You will not regret it.
LOCATION:We tee off from the ground on Pine which is located near Alpine Resort\, directly across from the Township Campground at 10am promptly. Look for a bright blue truck with a Waters Edge Banner on it. Turn there. Registration can be done early at Croton Bay Trading Post or that morning starting at 9am at the tee off site.
UID:e.1709.575
SEQUENCE:3
DTSTAMP:20260420T181440Z
URL:http://business.rivercountrychamber.com/events/details/ice-golf-is-dam-good-fun-02-15-2014-575
END:VEVENT

END:VCALENDAR
