BEGIN:VCALENDAR
VERSION:2.0
PRODID:-//ChamberMaster//Event Calendar 2.0//EN
METHOD:PUBLISH
X-PUBLISHED-TTL:P3D
REFRESH-INTERVAL:P3D
CALSCALE:GREGORIAN
BEGIN:VEVENT
DTSTART;VALUE=DATE:20140212
DTEND;VALUE=DATE:20140213
TRANSP:TRANSPARENT
X-MICROSOFT-CDO-ALLDAYEVENT:TRUE
SUMMARY:First Ever - Dam Good Pub Crawl Drawing
DESCRIPTION:Chance to Win $125 or $50\n\n\n\nMake sure to visit all seven of the pubs on the crawl list and have your wristband marked with their secret feature.  Once you do that\, write your name and phone number on the back and drop in the the bucket. (Or you may want to write it on before you start crawling)  \n\n\n\nIt is as Simple as that!\n\n\n\nFirst name drawn is $125\n\nSecond name drawn is $50\n\n\n\nPrizes are donated from all seven pubs.\n\nOld Iron Bar and Grill\n\nJimmy's Roadhouse\n\nSportsman's \n\nRiver Stop Saloon\n\nCroton American Legion\n\nDriftwood Bar and Grill\n\nNorthern Trails
X-ALT-DESC;FMTTYPE=text/html:<br />\n<span style="color:#0000ff\;"><strong><span style="font-family:comic sans ms\;"><span style="font-size:22px\;">Chance to Win $125 or $50</span></span></strong></span><br />\n<br />\n<span style="font-family:comic sans ms\;">Make sure to visit all seven of the pubs on the crawl list and have your wristband marked with their secret feature. &nbsp\;Once you do that\, write your name and phone number on the back and drop in the the bucket. (Or you may want to write it on before you start crawling) &nbsp\;<br />\n<br />\nIt is as Simple as that!<br />\n<br />\nFirst name drawn is $125<br />\nSecond name drawn is $50<br />\n<br />\nPrizes are donated from all seven pubs.<br />\nOld Iron Bar and Grill<br />\nJimmy&#39\;s Roadhouse<br />\nSportsman&#39\;s&nbsp\;<br />\nRiver Stop Saloon<br />\nCroton American Legion<br />\nDriftwood Bar and Grill<br />\nNorthern Trails</span>
LOCATION:Drawing to held at the newly opened Old Iron Bar and Grill Located in Downtown Grant
UID:e.1709.572
SEQUENCE:3
DTSTAMP:20260420T194400Z
URL:http://business.rivercountrychamber.com/events/details/first-ever-dam-good-pub-crawl-drawing-02-12-2014-572
END:VEVENT

END:VCALENDAR
