BEGIN:VCALENDAR
VERSION:2.0
PRODID:-//ChamberMaster//Event Calendar 2.0//EN
METHOD:PUBLISH
X-PUBLISHED-TTL:P3D
REFRESH-INTERVAL:P3D
CALSCALE:GREGORIAN
BEGIN:VEVENT
DTSTART:20140209T010000Z
DTEND:20140209T060000Z
X-MICROSOFT-CDO-ALLDAYEVENT:FALSE
SUMMARY:Dam Good Polar Pub Crawl
DESCRIPTION:There is still some time to get your wristbands before they sell out - here is the bus line up for the night.  Don't forget the Wrist Band Drawing that will be held on February 12 at Old Iron Bar and Grill - DETAILS HERE\n\n\n\n\n	\n		Pub Crawl Bus Agenda\n\n\n	\n		\n			\n				\n					Here is the Pub Crawl Bus Agenda\, I met with the Drivers and this is what they think will be the Best. The Helpers on the Bus will have Signs with the Route\n\n					\n\n					Bus # 28 Will Start at Jimmys Roadhouse ~~ Grant ~~ Saloon and Sportsmans Bar\n\n					This bus will stay on M37 and Follow this route all night\n\n					\n\n					Bus # 30 Will Start at Northern Trails ~~ Jimmy's Roashouse ~~ Saloon and Sportsmans ~~ To Driftwood and then Amnerican Legion.\n\n					This will be the Circut Bus and Following this Route all Night long\n\n					\n\n					Bus # 40 Will Start SDown Town Saloon/Sportsman then Head to Driftwood ~~ American Legion ~~ Jimmys ~~ Then Back to Down Town\n\n					This Bus will be doing this Route all Night\n\n					\n\n					Bus # 45 Will Start Down Town then off to Jimmys then Northern Trails. then Back to Down Town.\n\n					This Bus will Follow this Route all Night.\n\n					\n\n					Please feel Free to email me with any questions.. We Still have Wristbands for sale but they are going fast so if you need them get them now because once they are gone they are gone.. \n\n					\n\n					Also Remember you must be 21 and have a Valid ID if you cant show an ID your Wristband will be cut off.\n\n					\n\n					daniellebrinks@hotmail.com
X-ALT-DESC;FMTTYPE=text/html:<br />\nThere is still some time to get your wristbands before they sell out - here is the bus line up for the night. &nbsp\;Don&#39\;t forget the Wrist Band Drawing that will be held on February 12 at Old Iron Bar and Grill - <span style="font-size:14px\;"><strong><a href="http://business.rivercountrychamber.com/events/details/dam-good-pub-crawl-drawing-572">DETAILS HERE</a></strong></span><br />\n<br />\n<div class="userContentWrapper aboveUnitContent" data-ft="{" style="margin-bottom: 15px\; margin-top: 15px\; color: rgb(51\, 51\, 51)\; font-family: 'lucida grande'\, tahoma\, verdana\, arial\, sans-serif\; font-size: 11px\; line-height: 14.079999923706055px\;">\n	<div class="_wk mbm" style="margin-bottom: 10px\; font-size: 13px\; line-height: 18px\;">\n		<span class="userContent">Pub Crawl Bus Agenda</span></div>\n</div>\n<div class="_wk _5rny attachmentUnit" style="font-size: 13px\; line-height: 18px\; border-left-width: 2px\; border-left-style: solid\; border-left-color: rgb(192\, 201\, 221)\; margin: 0px 0px 12px 2px\; padding: 5px 0px 5px 8px\; color: rgb(51\, 51\, 51)\; font-family: 'lucida grande'\, tahoma\, verdana\, arial\, sans-serif\;">\n	<div class="_1x1" style="padding: 10px 0px 15px\;">\n		<div class="userContentWrapper">\n			<div class="_wk">\n				<div class="text_exposed_root text_exposed" id="id_52f50f3db2ccc8f11954390" style="display: inline\;">\n					Here is the Pub Crawl Bus Agenda\, I met with the Drivers and this is what they think will be the Best. The Helpers on the Bus will have Signs with the Route<br />\n					<br />\n					Bus # 28 Will Start at Jimmys Roadhouse ~~ Grant ~~ Saloon and Sportsmans Bar<br />\n					This bus will stay on M37 and Follow this route all night<br />\n					<br />\n					Bus # 30 Will Start at Northern Trails ~~ Jimmy&#39\;s Roashouse ~~ Saloon and Sportsmans ~~ To Driftwood and&nbsp\;<span class="text_exposed_show" style="display: inline\;">then Amnerican Legion.<br />\n					This will be the Circut Bus and Following this Route all Night long<br />\n					<br />\n					Bus # 40 Will Start SDown Town Saloon/Sportsman then Head to Driftwood ~~ American Legion ~~ Jimmys ~~ Then Back to Down Town<br />\n					This Bus will be doing this Route all Night<br />\n					<br />\n					Bus # 45 Will Start Down Town then off to Jimmys then Northern Trails. then Back to Down Town.<br />\n					This Bus will Follow this Route all Night.<br />\n					<br />\n					Please feel Free to email me with any questions.. We Still have Wristbands for sale but they are going fast so if you need them get them now because once they are gone they are gone..&nbsp\;<br />\n					<br />\n					Also Remember you must be 21 and have a Valid ID if you cant show an ID your Wristband will be cut off.<br />\n					<br />\n					<a href="mailto:daniellebrinks@hotmail.com?subject=Pub%20Crawl">daniellebrinks@hotmail.com</a></span></div>\n			</div>\n		</div>\n	</div>\n</div>\n<br />\n
LOCATION:Croton American Legion Post Croton Township Driftwood Bar & Grill Croton Township Jimmy's Roadhouse Newaygo Northern Trails Newaygo Old Iron Bar & Grill Grant River Stop Saloon Newaygo Sportsman's Bar & Rest. Newaygo
UID:e.1709.564
SEQUENCE:3
DTSTAMP:20260420T181408Z
URL:http://business.rivercountrychamber.com/events/details/dam-good-polar-pub-crawl-02-08-2014-564
END:VEVENT

END:VCALENDAR
